Workbook
Name GIA: 'Summary and Assumptions'!$O$4
Name GLA: 'Summary and Assumptions'!$O$5

Sheet Summary and Assumptions
B2: Investment Summary | O2: Clevedon - Owen Tolley - Ebb & Flow Apartments Financial Model | Q2: Hardcoded Inputs
B3: Location | I3: Physical Description | Q3: Formulas
B4: Property Name | H4: Ebb & Flow Apartments | I4: Gross Internal Area (GIA) | O4: 556710 | Q4: Cross-Sheet Links
B5: Address | H5: 3 Friars Walk, Reading | I5: Gross Leaseable Area (GLA) | O5: =SUMPRODUCT(D13:D16,E13:E16) -> 394976
B6: Postcode | D6: RG1 1HR | E6: County, Country | H6: Berkshire, United Kingdom | I6: Efficiency | O6: =GLA/GIA -> 0.7094825
I7: Buildings | K7: 2 | L7: Year Built | O7: 2024
B8: The Ebb & Flow Apartments is a stabilised premium BTR asset central to the ~£850m Station Hill redevelopment project, consisting of 598 units. | I8: Ebb Building | K8: 415 | L8: Total Units | O8: =D17 -> 598
I9: Flow Building | K9: 183 | L9: Avg. Unit Size | O9: =E17 -> 660.49498
B10: Unit Mix and Rental Income Assumptions
F11: Starting Rent | G11: Starting Rent to | H11: Market Rent / | I11: Annual Market | J11: Annual Market | L11: Start Year
C12: Beds/Baths | D12: # of Units | E12: Avg. Size | F12: ="/ Unit" -> / Unit | G12: Mkt Rent Scalar | H12: Unit (pcm) | I12: Rent / Unit | J12: Mkt Rent / SF | K12: Mkt Rent | L12: 2 | N12: ST Market Rent Growth | O12: 0.0375
B13: Studio | C13: ="0 / 1" -> 0 / 1 | D13: 34 | E13: 404 | F13: 1500 | G13: 1.09 | H13: =F13*G13 -> 1635 | I13: =H13*12 -> 19620 | J13: =I13/E13 -> 48.564356 | K13: =I13*D13 -> 667080 | L13: 4 | N13: LT Market Rent Growth | O13: 0.03
B14: 1-beds | C14: ="1 / 1" -> 1 / 1 | D14: 328 | E14: 547 | F14: 1700 | G14: =((1890+1825)/2)/F14 -> 1.0926471 | H14: =F14*G14 -> 1857.5 | I14: =H14*12 -> 22290 | J14: =I14/E14 -> 40.749543 | K14: =I14*D14 -> 7311120 | N14: General Vacancy | O14: 0.04
B15: 2-beds | C15: ="2 / 2" -> 2 / 2 | D15: 214 | E15: 855 | F15: 2150 | G15: 1.08 | H15: =F15*G15 -> 2322 | I15: =H15*12 -> 27864 | J15: =I15/E15 -> 32.589474 | K15: =I15*D15 -> 5962896 | N15: Parking Income Growth | O15: 0.02
B16: 3-beds | C16: ="3 / 2" -> 3 / 2 | D16: 22 | E16: 857 | F16: 2770 | G16: 1.05 | H16: =F16*G16 -> 2908.5 | I16: =H16*12 -> 34902 | J16: =I16/E16 -> 40.725788 | K16: =I16*D16 -> 767844 | N16: Loss-to-Lease | O16: 0.02
D17: =SUM(D13:D16) -> 598 | E17: =SUMPRODUCT(D13:D16,E13:E16)/D17 -> 660.49498 | K17: =SUM(K13:K16) -> 14708940
B18: Acquisition and Reversion Assumptions | I18: Operating Expense Assumptions
B19: Analysis Start Date | E19: 46266 | I19: Total Operating Expenses (% of Gross Rental Income) | O19: 0.25
B20: Analysis Period End | E20: 10 | N20: % of OpEx | O20: % of RI
B21: Reversion Year End | E21: =E20+1 -> 11 | I21: Management Fee | L21: Error Check | N21: 0.12 | O21: =N21*$O$19 -> 0.03
I22: Staffing Costs | L22: =IF(O28=O19,"OK", "Error") -> OK | N22: 0.25 | O22: =N22*$O$19 -> 0.0625
B23: Entry Net Initial Yield (NIY) | E23: 0.0425 | F23: Exit Yield | H23: 0.0475 | I23: Repairs & Maintenance | N23: 0.15 | O23: =N23*$O$19 -> 0.0375
B24: Stamp Duty Land Tax (SDLT) | E24: 0.05 | F24: Disposal Costs | H24: 0.02 | I24: Communal Utilities | N24: 0.15 | O24: =N24*$O$19 -> 0.0375
B25: Other Acquisition Fees | E25: 0.025 | I25: Marketing & Leasing | N25: 0.08 | O25: =N25*$O$19 -> 0.02
I26: Other / Administrative | N26: 0.17 | O26: =N26*$O$19 -> 0.0425
B27: Valuation Summary | G27: Acquisition | H27: Reversion | I27: Insurance | N27: 0.08 | O27: =N27*$O$19 -> 0.02
B28: Total Rental Revenue | G28: =Acquisition!H8 -> 14414761 | H28: =Reversion!H8 -> 19655381 | N28: =SUM(N21:N27) -> 1 | O28: =SUM(O21:O27) -> 0.25
B29: Total Other Income | G29: =Acquisition!H12 -> 129600 | H29: =Reversion!H12 -> 157981.68
B30: Gross Revenue | G30: =SUM(G28:G29) -> 14544361 | H30: =SUM(H28:H29) -> 19813362 | I30: Business Rates (Commercial Elements) | M30: 26/27 UBR Multiplier | N30: Rateable Value | O30: Taxes
B31: General Vacancy | G31: =Acquisition!H16 -> -581774.45 | H31: =Reversion!H16 -> -792534.5 | I31: Coffee Shop and Premises | M31: =IF(N31<51000,43.2%,48%) -> 0.432 | N31: 24000 | O31: =N31*M31 -> 10368
B32: Total Effective Gross Revenue | G32: =SUM(G30:G31) -> 13962587 | H32: =SUM(H30:H31) -> 19020828 | I32: Showflat Complex | M32: =IF(N32<51000,43.2%,48%) -> 0.48 | N32: 55000 | O32: =N32*M32 -> 26400
B33: Total Operating Expenses | G33: =Acquisition!H29 -> 3640458.3 | H33: =Reversion!H29 -> 4817659.6 | I33: Total Taxes / Business Rates | O33: =SUM(O31:O32) -> 36768
B34: Net Operating Income | G34: =G32-G33 -> 10322128 | H34: =H32-H33 -> 14203168
B35: Entry / Exit Yield | G35: =E23 -> 0.0425 | H35: =H23 -> 0.0475 | I35: Operating Expense Growth Assumptions | M35: Start Year | N35: End Year
B36: Purchase Price / Gross Reversion Value | G36: =Acquisition!H39 -> 2.2592894e+08 | H36: =Reversion!H39 -> 2.9901407e+08 | I36: ="Years "&M36&"-"&N36 -> Years 2-3 | M36: 2 | N36: 3 | O36: 0.035
B37: Acquisition / Reversion Costs | G37: =SUM(Acquisition!H40:H41) -> 16944671 | H37: =Reversion!H40 -> -5980281.4 | I37: ="Years "&M37&"-"&N37 -> Years 4-5 | M37: 4 | N37: 5 | O37: 0.03
B38: Total Acquisition Cost / Net from Reversion | G38: =SUM(G36:G37) -> 2.4287361e+08 | H38: =SUM(H36:H37) -> 2.9303379e+08 | I38: ="Years "&M38&"+" -> Years 6+ | M38: 6 | N38: =E21 -> 11 | O38: 0.025
B40: Property-level Return Metrics and Sensitivity Analysis
B41: Unlevered IRR | E41: ='Property Returns'!F34 -> 0.062821207 | F41: Avg. Cash-on-Cash Return | H41: =AVERAGE('Property Returns'!G25:P25) -> 0.048112812 | I41: Unlevered IRR Sensitivity - Operating Expense Ratio ↓ / Long-Term Market Rent Growth →
B42: Unlevered EMx | E42: ='Property Returns'!F35 -> 1.687656 | F42: Avg. Annual Return | H42: ='Property Returns'!F36/'Summary and Assumptions'!E20/SUM('Property Returns'!F8:P8) -> 0.068765602
...

Sheet Acquisition
B2: Acquisition Pro Forma | O2: Clevedon - Owen Tolley - Ebb & Flow Apartments Financial Model
B3: Stabilised Income | I3: Notes.
B4: REVENUE | G4: PSF | H4: Pro Forma
B5: Rental Revenue
B6: Potential Base Rent (ERV) | G6: =H6/GLA -> 37.240085 | H6: ='Summary and Assumptions'!K17 -> 14708940 | I6: Derived from unit mix and market rent calculations on the summary and assumptions tab
B7: Loss-to-Lease | F7: ='Summary and Assumptions'!O16 -> 0.02 | G7: =H7/GLA -> -0.74480171 | H7: =-F7*H6 -> -294178.8 | I7: Based on Grainger plc's new lets rental uplift, see comment on summary tab
B8: Total Rental Revenue | G8: =SUM(G6:G7) -> 36.495284 | H8: =SUM(H6:H7) -> 14414761
B10: Other Income | D10: Spaces | E10: Cost | F10: Take-up
B11: Parking Income | D11: 80 | E11: 225 | F11: 0.6 | G11: =H11/GLA -> 0.3281212 | H11: =(E11*12)*(D11*F11) -> 129600 | I11: Car parking assumptions were done conservatively based on the fact E&F benefits from great transport connections - with 598 units, there is one space for every 7.5 apartments.
B12: Total Other Income | G12: =SUM(G11) -> 0.3281212 | H12: =SUM(H11) -> 129600
B14: Effective Gross Revenue
B15: Gross Revenue | G15: =H15/GLA -> 36.823405 | H15: =H8+H12 -> 14544361
B16: General Vacancy | F16: ='Summary and Assumptions'!O14 -> 0.04 | G16: =H16/GLA -> -1.4729362 | H16: =-F16*H15 -> -581774.45 | I16: 4.0% vacancy is supported by the HY'26 report from large BTR provider Grainger plc, who had a 96.0% occupancy across their portfolio.
B17: Total Effective Gross Revenue | G17: =SUM(G15:G16) -> 35.350469 | H17: =SUM(H15:H16) -> 13962587
B19: OPERATING EXPENSES
B20: Property Operating Expenses | F20: % of RI
B21: Management Fee | F21: ='Summary and Assumptions'!O21 -> 0.03 | G21: =H21/GLA -> 1.0948585 | H21: =F21*$H$8 -> 432442.84 | I21: Assumed a standard 3.00% management fee
B22: Staffing Costs | F22: ='Summary and Assumptions'!O22 -> 0.0625 | G22: =H22/GLA -> 2.2809552 | H22: =F22*$H$8 -> 900922.57 | I22: Assumed a larger staff base due to on-demand support/repair team and exercise classes
B23: Repairs & Maintenance | F23: ='Summary and Assumptions'!O23 -> 0.0375 | G23: =H23/GLA -> 1.3685731 | H23: =F23*$H$8 -> 540553.54
B24: Communal Utilities | F24: ='Summary and Assumptions'!O24 -> 0.0375 | G24: =H24/GLA -> 1.3685731 | H24: =F24*$H$8 -> 540553.54 | I24: Large communal utilities space, e.g. bike storage, co-working space , gym etc.
B25: Marketing & Leasing | F25: ='Summary and Assumptions'!O25 -> 0.02 | G25: =H25/GLA -> 0.72990568 | H25: =F25*$H$8 -> 288295.22 | I25: Out of lease-up phase, so represents standard rental portal/agent listings
B26: Other / Administrative | F26: ='Summary and Assumptions'!O26 -> 0.0425 | G26: =H26/GLA -> 1.5510496 | H26: =F26*$H$8 -> 612627.35 | I26: Assumed a larger other costs due to additional features E&F has, such as the residents app
B27: Insurance | F27: ='Summary and Assumptions'!O27 -> 0.02 | G27: =H27/GLA -> 0.72990568 | H27: =F27*$H$8 -> 288295.22 | I27: Covers building insurance, public liability etc.
B28: Taxes / Business Rates | G28: =H28/GLA -> 0.0930892 | H28: ='Summary and Assumptions'!O33 -> 36768 | I28: Based off the rateable values and UBR multiplier, calculation seen in the summary tab
B29: Total Operating Expenses | G29: =SUM(G21:G28) -> 9.2169101 | H29: =SUM(H21:H28) -> 3640458.3
B31: NET OPERATING INCOME | G31: =H31/GLA -> 26.133559 | H31: =H17-H29 -> 10322128
F32: % of RI
B33: Capital Expenditure Reserves | F33: 0.02 | G33: =H33/GLA -> 0.72990568 | H33: =F33*H8 -> 288295.22 | I33: ~£480 of CapEx reserves per unit due to the premium communal infrastructure and stylish, modern design of the units that will need to be upheld
B35: Unlevered Property Cash Flow | G35: =H35/GLA -> 25.403653 | H35: =H31-H33 -> 10033833
B37: Acquisition Cost
B38: Entry NIY | H38: ='Summary and Assumptions'!E23 -> 0.0425
B39: Purchase Price | H39: =H42/(1+SUM(F40:F41)) -> 2.2592894e+08
B40: Stamp Duty Costs | F40: ='Summary and Assumptions'!E24 -> 0.05 | H40: =F40*H39 -> 11296447
B41: Other Acquisition Costs | F41: ='Summary and Assumptions'!E25 -> 0.025 | H41: =H39*F41 -> 5648223.5
B42: Total Acquisition Cost | H42: 2.4287361e+08 | I42: Hard coded to allow for sensitivity analysis, original formula was NOI / NIY

Sheet Operating Statement
B2: ='Summary and Assumptions'!E20&"-Year Operating Statement" -> 10-Year Operating Statement | W2: Clevedon - Owen Tolley - Ebb & Flow Apartments Financial Model
B3: Operating Cash Flow | R3: Notes.
F4: Year | G4: 1 | H4: =1+G4 -> 2 | I4: =1+H4 -> 3 | J4: =1+I4 -> 4 | K4: =1+J4 -> 5 | L4: =1+K4 -> 6 | M4: =1+L4 -> 7 | N4: =1+M4 -> 8 | O4: =1+N4 -> 9 | ... Q4: =1+P4 -> 11
F5: Month Ending | G5: =EOMONTH('Summary and Assumptions'!E19,11) -> 46630 | H5: =EOMONTH(G5,12) -> 46996 | I5: =EOMONTH(H5,12) -> 47361 | J5: =EOMONTH(I5,12) -> 47726 | K5: =EOMONTH(J5,12) -> 48091 | L5: =EOMONTH(K5,12) -> 48457 | M5: =EOMONTH(L5,12) -> 48822 | N5: =EOMONTH(M5,12) -> 49187 | O5: =EOMONTH(N5,12) -> 49552 | ... Q5: =EOMONTH(P5,12) -> 50283
B6: REVENUE
B7: Rental Revenue | F7: Mkt Rent Growth (%) | G7: N/A | H7: =INDEX('Summary and Assumptions'!$O$12:$O$13,MATCH('Operating Statement'!H4,'Summary and Assumptions'!$L$12:$L$13,1)) -> 0.0375 | I7: =INDEX('Summary and Assumptions'!$O$12:$O$13,MATCH('Operating Statement'!I4,'Summary and Assumptions'!$L$12:$L$13,1)) -> 0.0375 | J7: =INDEX('Summary and Assumptions'!$O$12:$O$13,MATCH('Operating Statement'!J4,'Summary and Assumptions'!$L$12:$L$13,1)) -> 0.03 | K7: =INDEX('Summary and Assumptions'!$O$12:$O$13,MATCH('Operating Statement'!K4,'Summary and Assumptions'!$L$12:$L$13,1)) -> 0.03 | L7: =INDEX('Summary and Assumptions'!$O$12:$O$13,MATCH('Operating Statement'!L4,'Summary and Assumptions'!$L$12:$L$13,1)) -> 0.03 | M7: =INDEX('Summary and Assumptions'!$O$12:$O$13,MATCH('Operating Statement'!M4,'Summary and Assumptions'!$L$12:$L$13,1)) -> 0.03 | N7: =INDEX('Summary and Assumptions'!$O$12:$O$13,MATCH('Operating Statement'!N4,'Summary and Assumptions'!$L$12:$L$13,1)) -> 0.03 | O7: =INDEX('Summary and Assumptions'!$O$12:$O$13,MATCH('Operating Statement'!O4,'Summary and Assumptions'!$L$12:$L$13,1)) -> 0.03 | ... Q7: =INDEX('Summary and Assumptions'!$O$12:$O$13,MATCH('Operating Statement'!Q4,'Summary and Assumptions'!$L$12:$L$13,1)) -> 0.03 | R7: Growth rates for market rent and opex are pulled from the summary / acquisitions tab using the INDEX/MATCH function
B8: Potential Base Rent (ERV) | G8: =Acquisition!H6 -> 14708940 | H8: =G8*(1+H$7) -> 15260525 | I8: =H8*(1+I$7) -> 15832795 | J8: =I8*(1+J$7) -> 16307779 | K8: =J8*(1+K$7) -> 16797012 | L8: =K8*(1+L$7) -> 17300923 | M8: =L8*(1+M$7) -> 17819950 | N8: =M8*(1+N$7) -> 18354549 | O8: =N8*(1+O$7) -> 18905185 | ... Q8: =P8*(1+Q$7) -> 20056511
B9: Loss-to-Lease | E9: ='Summary and Assumptions'!O16 -> 0.02 | G9: =-$E$9*G8 -> -294178.8 | H9: =-$E$9*H8 -> -305210.51 | I9: =-$E$9*I8 -> -316655.9 | J9: =-$E$9*J8 -> -326155.58 | K9: =-$E$9*K8 -> -335940.24 | L9: =-$E$9*L8 -> -346018.45 | M9: =-$E$9*M8 -> -356399 | N9: =-$E$9*N8 -> -367090.97 | ... Q9: =-$E$9*Q8 -> -401130.22
B10: Total Rental Revenue | G10: =SUM(G8:G9) -> 14414761 | H10: =SUM(H8:H9) -> 14955315 | I10: =SUM(I8:I9) -> 15516139 | J10: =SUM(J8:J9) -> 15981623 | K10: =SUM(K8:K9) -> 16461072 | L10: =SUM(L8:L9) -> 16954904 | M10: =SUM(M8:M9) -> 17463551 | N10: =SUM(N8:N9) -> 17987458 | ... Q10: =SUM(Q8:Q9) -> 19655381
B12: Other Income | D12: Spaces | E12: Cost | F12: Take-up
B13: Parking Income | D13: 80 | E13: 225 | F13: 0.6 | G13: =(E13*12)*(D13*F13) -> 129600 | H13: =G13*(1+'Summary and Assumptions'!$O$15) -> 132192 | I13: =H13*(1+'Summary and Assumptions'!$O$15) -> 134835.84 | J13: =I13*(1+'Summary and Assumptions'!$O$15) -> 137532.56 | K13: =J13*(1+'Summary and Assumptions'!$O$15) -> 140283.21 | L13: =K13*(1+'Summary and Assumptions'!$O$15) -> 143088.87 | M13: =L13*(1+'Summary and Assumptions'!$O$15) -> 145950.65 | N13: =M13*(1+'Summary and Assumptions'!$O$15) -> 148869.66 | O13: =N13*(1+'Summary and Assumptions'!$O$15) -> 151847.06 | ... Q13: =P13*(1+'Summary and Assumptions'!$O$15) -> 157981.68
B14: Total Other Income | G14: =SUM(G13) -> 129600 | H14: =SUM(H13) -> 132192 | I14: =SUM(I13) -> 134835.84 | J14: =SUM(J13) -> 137532.56 | K14: =SUM(K13) -> 140283.21 | L14: =SUM(L13) -> 143088.87 | M14: =SUM(M13) -> 145950.65 | N14: =SUM(N13) -> 148869.66 | ... Q14: =SUM(Q13) -> 157981.68
B16: Effective Gross Revenue
B17: Gross Revenue | G17: =G10+G14 -> 14544361 | H17: =H10+H14 -> 15087507 | I17: =I10+I14 -> 15650975 | J17: =J10+J14 -> 16119156 | K17: =K10+K14 -> 16601355 | L17: =L10+L14 -> 17097993 | M17: =M10+M14 -> 17609502 | N17: =N10+N14 -> 18136327 | ... Q17: =Q10+Q14 -> 19813362
B18: General Vacancy | E18: ='Summary and Assumptions'!O14 -> 0.04 | G18: =-$E$18*G17 -> -581774.45 | H18: =-$E$18*H17 -> -603500.27 | I18: =-$E$18*I17 -> -626039 | J18: =-$E$18*J17 -> -644766.23 | K18: =-$E$18*K17 -> -664054.2 | L18: =-$E$18*L17 -> -683919.72 | M18: =-$E$18*M17 -> -704380.07 | N18: =-$E$18*N17 -> -725453.1 | ... Q18: =-$E$18*Q17 -> -792534.5
B19: Total Effective Gross Revenue | G19: =SUM(G17:G18) -> 13962587 | H19: =SUM(H17:H18) -> 14484006 | I19: =SUM(I17:I18) -> 15024936 | J19: =SUM(J17:J18) -> 15474390 | K19: =SUM(K17:K18) -> 15937301 | L19: =SUM(L17:L18) -> 16414073 | M19: =SUM(M17:M18) -> 16905122 | N19: =SUM(N17:N18) -> 17410874 | ... Q19: =SUM(Q17:Q18) -> 19020828
B21: OPERATING EXPENSES
B22: Property Operating Expenses | E22: % of RI | F22: Exp. Growth (%) | G22: N/A | H22: =INDEX('Summary and Assumptions'!$O$36:$O$38,MATCH('Operating Statement'!H4,'Summary and Assumptions'!$M$36:$M$38,1)) -> 0.035 | I22: =INDEX('Summary and Assumptions'!$O$36:$O$38,MATCH('Operating Statement'!I4,'Summary and Assumptions'!$M$36:$M$38,1)) -> 0.035 | J22: =INDEX('Summary and Assumptions'!$O$36:$O$38,MATCH('Operating Statement'!J4,'Summary and Assumptions'!$M$36:$M$38,1)) -> 0.03 | K22: =INDEX('Summary and Assumptions'!$O$36:$O$38,MATCH('Operating Statement'!K4,'Summary and Assumptions'!$M$36:$M$38,1)) -> 0.03 | L22: =INDEX('Summary and Assumptions'!$O$36:$O$38,MATCH('Operating Statement'!L4,'Summary and Assumptions'!$M$36:$M$38,1)) -> 0.025 | M22: =INDEX('Summary and Assumptions'!$O$36:$O$38,MATCH('Operating Statement'!M4,'Summary and Assumptions'!$M$36:$M$38,1)) -> 0.025 | N22: =INDEX('Summary and Assumptions'!$O$36:$O$38,MATCH('Operating Statement'!N4,'Summary and Assumptions'!$M$36:$M$38,1)) -> 0.025 | O22: =INDEX('Summary and Assumptions'!$O$36:$O$38,MATCH('Operating Statement'!O4,'Summary and Assumptions'!$M$36:$M$38,1)) -> 0.025 | ... Q22: =INDEX('Summary and Assumptions'!$O$36:$O$38,MATCH('Operating Statement'!Q4,'Summary and Assumptions'!$M$36:$M$38,1)) -> 0.025
B23: Management Fee | E23: ='Summary and Assumptions'!O21 -> 0.03 | G23: =$E$23*G$10 -> 432442.84 | H23: =$E$23*H$10 -> 448659.44 | I23: =$E$23*I$10 -> 465484.17 | J23: =$E$23*J$10 -> 479448.7 | K23: =$E$23*K$10 -> 493832.16 | L23: =$E$23*L$10 -> 508647.12 | M23: =$E$23*M$10 -> 523906.54 | N23: =$E$23*N$10 -> 539623.73 | ... Q23: =$E$23*Q$10 -> 589661.42
B24: Staffing Costs | E24: ='Summary and Assumptions'!O22 -> 0.0625 | G24: =E24*$G$10 -> 900922.57 | H24: =G24*(1+H$22) -> 932454.87 | I24: =H24*(1+I$22) -> 965090.79 | J24: =I24*(1+J$22) -> 994043.51 | K24: =J24*(1+K$22) -> 1023864.8 | L24: =K24*(1+L$22) -> 1049461.4 | M24: =L24*(1+M$22) -> 1075698 | N24: =M24*(1+N$22) -> 1102590.4 | O24: =N24*(1+O$22) -> 1130155.2 | ... Q24: =P24*(1+Q$22) -> 1187369.3
B25: Repairs & Maintenance | E25: ='Summary and Assumptions'!O23 -> 0.0375 | G25: =E25*$G$10 -> 540553.54 | H25: =G25*(1+H$22) -> 559472.92 | I25: =H25*(1+I$22) -> 579054.47 | J25: =I25*(1+J$22) -> 596426.11 | K25: =J25*(1+K$22) -> 614318.89 | L25: =K25*(1+L$22) -> 629676.86 | M25: =L25*(1+M$22) -> 645418.78 | N25: =M25*(1+N$22) -> 661554.25 | O25: =N25*(1+O$22) -> 678093.11 | ... Q25: =P25*(1+Q$22) -> 712421.57
B26: Communal Utilities | E26: ='Summary and Assumptions'!O24 -> 0.0375 | G26: =E26*$G$10 -> 540553.54 | H26: =G26*(1+H$22) -> 559472.92 | I26: =H26*(1+I$22) -> 579054.47 | J26: =I26*(1+J$22) -> 596426.11 | K26: =J26*(1+K$22) -> 614318.89 | L26: =K26*(1+L$22) -> 629676.86 | M26: =L26*(1+M$22) -> 645418.78 | N26: =M26*(1+N$22) -> 661554.25 | O26: =N26*(1+O$22) -> 678093.11 | ... Q26: =P26*(1+Q$22) -> 712421.57
B27: Marketing & Leasing | E27: ='Summary and Assumptions'!O25 -> 0.02 | G27: =E27*$G$10 -> 288295.22 | H27: =G27*(1+H$22) -> 298385.56 | I27: =H27*(1+I$22) -> 308829.05 | J27: =I27*(1+J$22) -> 318093.92 | K27: =J27*(1+K$22) -> 327636.74 | L27: =K27*(1+L$22) -> 335827.66 | M27: =L27*(1+M$22) -> 344223.35 | N27: =M27*(1+N$22) -> 352828.93 | O27: =N27*(1+O$22) -> 361649.66 | ... Q27: =P27*(1+Q$22) -> 379958.17
B28: Other / Administrative | E28: ='Summary and Assumptions'!O26 -> 0.0425 | G28: =E28*$G$10 -> 612627.35 | H28: =G28*(1+H$22) -> 634069.31 | I28: =H28*(1+I$22) -> 656261.73 | J28: =I28*(1+J$22) -> 675949.59 | K28: =J28*(1+K$22) -> 696228.07 | L28: =K28*(1+L$22) -> 713633.78 | M28: =L28*(1+M$22) -> 731474.62 | N28: =M28*(1+N$22) -> 749761.49 | O28: =N28*(1+O$22) -> 768505.52 | ... Q28: =P28*(1+Q$22) -> 807411.11
B29: Insurance | E29: ='Summary and Assumptions'!O27 -> 0.02 | G29: =E29*$G$10 -> 288295.22 | H29: =G29*(1+H$22) -> 298385.56 | I29: =H29*(1+I$22) -> 308829.05 | J29: =I29*(1+J$22) -> 318093.92 | K29: =J29*(1+K$22) -> 327636.74 | L29: =K29*(1+L$22) -> 335827.66 | M29: =L29*(1+M$22) -> 344223.35 | N29: =M29*(1+N$22) -> 352828.93 | O29: =N29*(1+O$22) -> 361649.66 | ... Q29: =P29*(1+Q$22) -> 379958.17
B30: Taxes / Business Rates | G30: ='Summary and Assumptions'!O33 -> 36768 | H30: =G30*(1+H$22) -> 38054.88 | I30: =H30*(1+I$22) -> 39386.801 | J30: =I30*(1+J$22) -> 40568.405 | K30: =J30*(1+K$22) -> 41785.457 | L30: =K30*(1+L$22) -> 42830.093 | M30: =L30*(1+M$22) -> 43900.846 | N30: =M30*(1+N$22) -> 44998.367 | O30: =N30*(1+O$22) -> 46123.326 | ... Q30: =P30*(1+Q$22) -> 48458.319
B31: Total Operating Expenses | G31: =SUM(G23:G30) -> 3640458.3 | H31: =SUM(H23:H30) -> 3768955.4 | I31: =SUM(I23:I30) -> 3901990.5 | J31: =SUM(J23:J30) -> 4019050.3 | K31: =SUM(K23:K30) -> 4139621.8 | L31: =SUM(L23:L30) -> 4245581.5 | M31: =SUM(M23:M30) -> 4354264.2 | N31: =SUM(N23:N30) -> 4465740.4 | ... Q31: =SUM(Q23:Q30) -> 4817659.6
B33: NET OPERATING INCOME | G33: =G19-G31 -> 10322128 | H33: =H19-H31 -> 10715051 | I33: =I19-I31 -> 11122945 | J33: =J19-J31 -> 11455339 | K33: =K19-K31 -> 11797679 | L33: =L19-L31 -> 12168492 | M33: =M19-M31 -> 12550858 | N33: =N19-N31 -> 12945134 | ... Q33: =Q19-Q31 -> 14203168
E34: % of RI
B35: Capital Expenditure Reserves | E35: 0.02 | G35: =$E$35*G10 -> 288295.22 | H35: =$E$35*H10 -> 299106.29 | I35: =$E$35*I10 -> 310322.78 | J35: =$E$35*J10 -> 319632.46 | K35: =$E$35*K10 -> 329221.44 | L35: =$E$35*L10 -> 339098.08 | M35: =$E$35*M10 -> 349271.02 | N35: =$E$35*N10 -> 359749.15 | ... Q35: =$E$35*Q10 -> 393107.61
B37: Unlevered Property Cash Flow | G37: =G33-G35 -> 10033833 | H37: =H33-H35 -> 10415945 | I37: =I33-I35 -> 10812623 | J37: =J33-J35 -> 11135707 | K37: =K33-K35 -> 11468458 | L37: =L33-L35 -> 11829394 | M37: =M33-M35 -> 12201587 | N37: =N33-N35 -> 12585385 | ... Q37: =Q33-Q35 -> 13810061

Sheet Reversion
B2: Reversion Value | O2: Clevedon - Owen Tolley - Ebb & Flow Apartments Financial Model
B3: Reversion Pro Forma | H3: ='Operating Statement'!Q4 -> 11 | I3: Notes. | N3: Year Ending = | O3: ='Operating Statement'!Q5 -> 50283
B4: REVENUE | G4: PSF | H4: Reversion PF
B5: Rental Revenue
B6: Potential Base Rent (ERV) | G6: =H6/GLA -> 50.779062 | H6: ='Operating Statement'!Q8 -> 20056511
B7: Loss-to-Lease | G7: =H7/GLA -> -1.0155812 | H7: ='Operating Statement'!Q9 -> -401130.22
B8: Total Rental Revenue | G8: =SUM(G6:G7) -> 49.763481 | H8: =SUM(H6:H7) -> 19655381
B10: Other Income
B11: Parking Income | G11: =H11/GLA -> 0.39997791 | H11: ='Operating Statement'!Q13 -> 157981.68
B12: Total Other Income | G12: =SUM(G11) -> 0.39997791 | H12: =SUM(H11) -> 157981.68
B14: Effective Gross Revenue
B15: Gross Revenue | G15: =H15/GLA -> 50.163459 | H15: ='Operating Statement'!Q17 -> 19813362
B16: General Vacancy | G16: =H16/GLA -> -2.0065384 | H16: ='Operating Statement'!Q18 -> -792534.5
B17: Total Effective Gross Revenue | G17: =SUM(G15:G16) -> 48.156921 | H17: =SUM(H15:H16) -> 19020828
B19: OPERATING EXPENSES
B20: Property Operating Expenses
B21: Management Fee | G21: =H21/GLA -> 1.4929044 | H21: ='Operating Statement'!Q23 -> 589661.42
B22: Staffing Costs | G22: =H22/GLA -> 3.0061808 | H22: ='Operating Statement'!Q24 -> 1187369.3
B23: Repairs & Maintenance | G23: =H23/GLA -> 1.8037085 | H23: ='Operating Statement'!Q25 -> 712421.57
B24: Communal Utilities | G24: =H24/GLA -> 1.8037085 | H24: ='Operating Statement'!Q26 -> 712421.57
B25: Marketing & Leasing | G25: =H25/GLA -> 0.96197787 | H25: ='Operating Statement'!Q27 -> 379958.17
B26: Other / Administrative | G26: =H26/GLA -> 2.044203 | H26: ='Operating Statement'!Q28 -> 807411.11
B27: Insurance | G27: =H27/GLA -> 0.96197787 | H27: ='Operating Statement'!Q29 -> 379958.17
B28: Taxes / Business Rates | G28: =H28/GLA -> 0.12268674 | H28: ='Operating Statement'!Q30 -> 48458.319
B29: Total Operating Expenses | G29: =SUM(G21:G28) -> 12.197348 | H29: =SUM(H21:H28) -> 4817659.6
B31: NET OPERATING INCOME | G31: =H31/GLA -> 35.959573 | H31: =H17-H29 -> 14203168
B33: Capital Expenditure Reserves | G33: =H33/GLA -> 0.99526962 | H33: ='Operating Statement'!Q35 -> 393107.61
B35: Unlevered Property Cash Flow | G35: =H35/GLA -> 34.964303 | H35: =H31-H33 -> 13810061
B37: Net from Reversion
B38: Exit Yield | H38: ='Summary and Assumptions'!H23 -> 0.0475
B39: Gross Reversion Value | H39: =H31/H38 -> 2.9901407e+08 | I39: Reversion Value = Year 11 NOI / Exit Yield
B40: Disposal Costs | F40: ='Summary and Assumptions'!H24 -> 0.02 | H40: =-F40*H39 -> -5980281.4
B41: Net from Reversion | H41: =SUM(H39:H40) -> 2.9303379e+08

Sheet Property Returns
B2: Property-level Returns | P2: Clevedon - Owen Tolley - Ebb & Flow Apartments Financial Model
B3: Unlevered Returns | F3: 0 | G3: =F3+1 -> 1 | H3: =G3+1 -> 2 | I3: =H3+1 -> 3 | J3: =I3+1 -> 4 | K3: =J3+1 -> 5 | L3: =K3+1 -> 6 | M3: =L3+1 -> 7 | N3: =M3+1 -> 8 | ... P3: =O3+1 -> 10
B4: INVESTMENT CASH FLOWS
B5: Purchase Price | F5: =Acquisition!H39 -> 2.2592894e+08
B6: Stamp Duty Costs | F6: =Acquisition!H40 -> 11296447
B7: Other Acquisition Costs | F7: =Acquisition!H41 -> 5648223.5
B8: Total Acquisition Cost | F8: =SUM(F5:F7) -> 2.4287361e+08
B10: OPERATING CASH FLOWS
B11: Total Rental Revenue | G11: ='Operating Statement'!G10 -> 14414761 | H11: ='Operating Statement'!H10 -> 14955315 | I11: ='Operating Statement'!I10 -> 15516139 | J11: ='Operating Statement'!J10 -> 15981623 | K11: ='Operating Statement'!K10 -> 16461072 | L11: ='Operating Statement'!L10 -> 16954904 | M11: ='Operating Statement'!M10 -> 17463551 | N11: ='Operating Statement'!N10 -> 17987458 | ... P11: ='Operating Statement'!P10 -> 19082894
B12: Total Other Income | G12: ='Operating Statement'!G14 -> 129600 | H12: ='Operating Statement'!H14 -> 132192 | I12: ='Operating Statement'!I14 -> 134835.84 | J12: ='Operating Statement'!J14 -> 137532.56 | K12: ='Operating Statement'!K14 -> 140283.21 | L12: ='Operating Statement'!L14 -> 143088.87 | M12: ='Operating Statement'!M14 -> 145950.65 | N12: ='Operating Statement'!N14 -> 148869.66 | ... P12: ='Operating Statement'!P14 -> 154884
B13: Gross Revenue | G13: =SUM(G11:G12) -> 14544361 | H13: =SUM(H11:H12) -> 15087507 | I13: =SUM(I11:I12) -> 15650975 | J13: =SUM(J11:J12) -> 16119156 | K13: =SUM(K11:K12) -> 16601355 | L13: =SUM(L11:L12) -> 17097993 | M13: =SUM(M11:M12) -> 17609502 | N13: =SUM(N11:N12) -> 18136327 | ... P13: =SUM(P11:P12) -> 19237778
B14: General Vacancy | G14: ='Operating Statement'!G18 -> -581774.45 | H14: ='Operating Statement'!H18 -> -603500.27 | I14: ='Operating Statement'!I18 -> -626039 | J14: ='Operating Statement'!J18 -> -644766.23 | K14: ='Operating Statement'!K18 -> -664054.2 | L14: ='Operating Statement'!L18 -> -683919.72 | M14: ='Operating Statement'!M18 -> -704380.07 | N14: ='Operating Statement'!N18 -> -725453.1 | ... P14: ='Operating Statement'!P18 -> -769511.12
B15: Total Effective Gross Revenue | G15: =SUM(G13:G14) -> 13962587 | H15: =SUM(H13:H14) -> 14484006 | I15: =SUM(I13:I14) -> 15024936 | J15: =SUM(J13:J14) -> 15474390 | K15: =SUM(K13:K14) -> 15937301 | L15: =SUM(L13:L14) -> 16414073 | M15: =SUM(M13:M14) -> 16905122 | N15: =SUM(N13:N14) -> 17410874 | ... P15: =SUM(P13:P14) -> 18468267
B17: Total Operating Expenses | G17: ='Operating Statement'!G31 -> 3640458.3 | H17: ='Operating Statement'!H31 -> 3768955.4 | I17: ='Operating Statement'!I31 -> 3901990.5 | J17: ='Operating Statement'!J31 -> 4019050.3 | K17: ='Operating Statement'!K31 -> 4139621.8 | L17: ='Operating Statement'!L31 -> 4245581.5 | M17: ='Operating Statement'!M31 -> 4354264.2 | N17: ='Operating Statement'!N31 -> 4465740.4 | ... P17: ='Operating Statement'!P31 -> 4697363.1
B19: Net Operating Income | G19: =G15-G17 -> 10322128 | H19: =H15-H17 -> 10715051 | I19: =I15-I17 -> 11122945 | J19: =J15-J17 -> 11455339 | K19: =K15-K17 -> 11797679 | L19: =L15-L17 -> 12168492 | M19: =M15-M17 -> 12550858 | N19: =N15-N17 -> 12945134 | ... P19: =P15-P17 -> 13770904
B21: Capital Expenditure Reserves | G21: ='Operating Statement'!G35 -> 288295.22 | H21: ='Operating Statement'!H35 -> 299106.29 | I21: ='Operating Statement'!I35 -> 310322.78 | J21: ='Operating Statement'!J35 -> 319632.46 | K21: ='Operating Statement'!K35 -> 329221.44 | L21: ='Operating Statement'!L35 -> 339098.08 | M21: ='Operating Statement'!M35 -> 349271.02 | N21: ='Operating Statement'!N35 -> 359749.15 | ... P21: ='Operating Statement'!P35 -> 381657.88
F22: CapEx Reserve / Unit | G22: =G21/'Summary and Assumptions'!$O$8 -> 482.09904 | H22: =H21/'Summary and Assumptions'!$O$8 -> 500.17775 | I22: =I21/'Summary and Assumptions'!$O$8 -> 518.93442 | J22: =J21/'Summary and Assumptions'!$O$8 -> 534.50245 | K22: =K21/'Summary and Assumptions'!$O$8 -> 550.53752 | L22: =L21/'Summary and Assumptions'!$O$8 -> 567.05365 | M22: =M21/'Summary and Assumptions'!$O$8 -> 584.06526 | N22: =N21/'Summary and Assumptions'!$O$8 -> 601.58722 | ... P22: =P21/'Summary and Assumptions'!$O$8 -> 638.22388
B24: Unlevered Property Cash Flow | G24: =G19-G21 -> 10033833 | H24: =H19-H21 -> 10415945 | I24: =I19-I21 -> 10812623 | J24: =J19-J21 -> 11135707 | K24: =K19-K21 -> 11468458 | L24: =L19-L21 -> 11829394 | M24: =M19-M21 -> 12201587 | N24: =N19-N21 -> 12585385 | ... P24: =P19-P21 -> 13389246
F25: Cash-on-Cash Return | G25: =G24/SUM($F$8:G8) -> 0.041312983 | H25: =H24/SUM($F$8:H8) -> 0.042886276 | I25: =I24/SUM($F$8:I8) -> 0.044519545 | J25: =J24/SUM($F$8:J8) -> 0.045849801 | K25: =K24/SUM($F$8:K8) -> 0.047219859 | L25: =L24/SUM($F$8:L8) -> 0.048705965 | M25: =M24/SUM($F$8:M8) -> 0.05023842 | N25: =N24/SUM($F$8:N8) -> 0.051818659 | ... P25: =P24/SUM($F$8:P8) -> 0.05512845
B27: REVERSION CASH FLOWS
B28: Gross Reversion Value | P28: =Reversion!H39 -> 2.9901407e+08
B29: Disposal Costs | P29: =Reversion!H40 -> -5980281.4
B30: Net from Reversion | P30: =SUM(P28:P29) -> 2.9303379e+08
B32: UNLEVERED NET CASH FLOW | F32: =-F8+F24+F30 -> -2.4287361e+08 | G32: =-G8+G24+G30 -> 10033833 | H32: =-H8+H24+H30 -> 10415945 | I32: =-I8+I24+I30 -> 10812623 | J32: =-J8+J24+J30 -> 11135707 | K32: =-K8+K24+K30 -> 11468458 | L32: =-L8+L24+L30 -> 11829394 | M32: =-M8+M24+M30 -> 12201587 | ... P32: =-P8+P24+P30 -> 3.0642303e+08
B34: Unlevered IRR | F34: =IRR(F32:P32) -> 0.062821207
B35: Unlevered EMx | F35: =SUMIF(F32:P32,">0")/-SUMIF(F32:P32,"<0") -> 1.687656
B36: Net Profit | F36: =SUM(F32:P32) -> 1.670135e+08
